BEGIN:VCALENDAR
PRODID:-//LVH3iCalGenerator
VERSION:2.0
METHOD:PUBLISH
BEGIN:VEVENT
UID:20260423T123741Z-1203236-66383@www.lvh3.org.uk
SUMMARY:Lune Valley H3 - Run 936 (The off the cuff r*n)
LOCATION:Warton Crag Car Park, Warton
DESCRIPTION:Hares: First Class Stomp & Large Package\rClick here for map - http://maps.google.co.uk/maps?q=54.144368,-2.779423+(Warton+Crag+Car+Park,+Warton)&hl=en&t=m&ie=UTF8&z=15
CLASS:PUBLIC
DTSTART:20260426T143000Z
DTSTAMP:20260423T133741Z
DTEND:20260426T163000Z
END:VEVENT
END:VCALENDAR
